BEGIN:VCALENDAR
VERSION:2.0
PRODID:-//eventon.com NONSGML v1.0//EN
CALSCALE:GREGORIAN
METHOD:PUBLISH
BEGIN:VEVENT
UID:69e9e6ff8d2f4
DTSTAMP:20260423T093143Z
DTSTART:20260418
DTEND:20260419
LOCATION:Palazzo Rospigliosi Piazza della Indipendenza\,  18
SUMMARY:GOFFREDO PETRASSI & FRIENDS
DESCRIPTION:La coralità del 900 storico Giornate di studio\,  alla ricerca
  di quei compositori italiani di inizio 900 che hanno contribuito alla form
 azione delle nuove generazioni. Figure ormai dimenticate ma che rappresenta
 no le nostre radici polifoniche moderne. Petrassi e i suoi contemporanei (B
 ettinelli\,  Porrino\,  Soresina\,  Colacicchi\,  Somma\,  Rota\,  Paribeni
 \,  Pizzetti\,  ecc)[..]\nhttps://andci.cloud/events/goffredo-petrassi-frie
 nds/
URL:https://andci.cloud/events/goffredo-petrassi-friends/
END:VEVENT
END:VCALENDAR