BEGIN:VCALENDAR
VERSION:2.0
PRODID:-//eventon.com NONSGML v1.0//EN
CALSCALE:GREGORIAN
METHOD:PUBLISH
BEGIN:VEVENT
UID:69e9e70187f34
DTSTAMP:20260423T093145Z
DTSTART:20260710
DTEND:20260711
LOCATION:Assisi Piazza Porziuncola 1 - Assisi
SUMMARY:ANDCI CAMPUS 2026
DESCRIPTION:Campus Internazionale di Musica Corale\nhttps://andci.cloud/eve
 nts/andci-campus-2026/
URL:https://andci.cloud/events/andci-campus-2026/
END:VEVENT
END:VCALENDAR